BEGIN:VCALENDAR
VERSION:2.0
PRODID:-//Tukios.com/
BEGIN:VEVENT
UID:528a3c9b-aa32-4801-97e1-e5ed881462be@www.beaconfh.com
DTSTAMP:20260420T121741Z
DTSTART:20260418T150000Z
DTEND:20260418T160000Z
SUMMARY:Celebration of Life
DESCRIPTION:
URL:https://www.beaconfh.com/obituaries/lela-walker
LOCATION:Walkerville Wesleyan Church 144 176th Avenue  Walkerville MI 
	49459
GEO:43.7130465;-86.1173667
END:VEVENT
END:VCALENDAR