BEGIN:VCALENDAR
VERSION:2.0
PRODID:-//Tukios.com/
BEGIN:VEVENT
UID:121e33df-9247-4d6b-ae45-791537cbe9f8@www.beaconfh.com
DTSTAMP:20260420T083059Z
DTSTART:20260418T140000Z
DTEND:20260418T150000Z
SUMMARY:Receiving Friends
DESCRIPTION:
URL:https://www.beaconfh.com/obituaries/lela-walker
LOCATION: 144 176th Avenue  Walkerville MI 49459
GEO:43.7130465;-86.1173667
END:VEVENT
END:VCALENDAR