BEGIN:VCALENDAR
VERSION:2.0
PRODID:-//Tukios.com/
BEGIN:VEVENT
UID:da59f6c4-ebd2-4a58-bd94-6dad670e81f1@www.beaconfh.com
DTSTAMP:20260419T130759Z
DTSTART:20260419T180000Z
DTEND:20260419T200000Z
SUMMARY:Visitation
DESCRIPTION:
URL:https://www.beaconfh.com/obituaries/robert-bubba-tubbs
LOCATION:Hart Christian Fellowship 408 South State Street  Hart MI 49420
GEO:43.6988044;-86.3634552
END:VEVENT
END:VCALENDAR