BEGIN:VCALENDAR
VERSION:2.0
PRODID:-//Tukios.com/
BEGIN:VEVENT
UID:639f9db6-44b0-4883-87ee-78745a5542f2@www.beaconfh.com
DTSTAMP:20260421T223645Z
DTSTART:20260502T150000Z
DTEND:20260502T160000Z
SUMMARY:Memorial Service
DESCRIPTION:
URL:https://www.beaconfh.com/obituaries/sally-wisner
LOCATION:Beacon Cremation & Funeral Service, Pere Marquette Chapel 309 S 
	Washington Ave  Ludington MI 49431
GEO:43.9528201;-86.4391166
END:VEVENT
END:VCALENDAR