BEGIN:VCALENDAR
VERSION:2.0
PRODID:-//Tukios.com/
BEGIN:VEVENT
UID:5a84b9af-24e1-485a-8bbd-994e1c106d97@www.beaconfh.com
DTSTAMP:20260421T223933Z
DTSTART:20260502T140000Z
DTEND:20260502T150000Z
SUMMARY:Receiving Friends
DESCRIPTION:
URL:https://www.beaconfh.com/obituaries/sally-wisner
LOCATION: 309 S Washington Ave  Ludington MI 49431
GEO:43.9528201;-86.4391166
END:VEVENT
END:VCALENDAR